BEGIN:VCALENDAR
VERSION:2.0
PRODID:-//Indy Cylinder Head - ECPv6.15.20//NONSGML v1.0//EN
CALSCALE:GREGORIAN
METHOD:PUBLISH
X-WR-CALNAME:Indy Cylinder Head
X-ORIGINAL-URL:https://www.indyheads.com
X-WR-CALDESC:Events for Indy Cylinder Head
REFRESH-INTERVAL;VALUE=DURATION:PT1H
X-Robots-Tag:noindex
X-PUBLISHED-TTL:PT1H
BEGIN:VTIMEZONE
TZID:America/Detroit
BEGIN:DAYLIGHT
TZOFFSETFROM:-0500
TZOFFSETTO:-0400
TZNAME:EDT
DTSTART:20240310T070000
END:DAYLIGHT
BEGIN:STANDARD
TZOFFSETFROM:-0400
TZOFFSETTO:-0500
TZNAME:EST
DTSTART:20241103T060000
END:STANDARD
BEGIN:DAYLIGHT
TZOFFSETFROM:-0500
TZOFFSETTO:-0400
TZNAME:EDT
DTSTART:20250309T070000
END:DAYLIGHT
BEGIN:STANDARD
TZOFFSETFROM:-0400
TZOFFSETTO:-0500
TZNAME:EST
DTSTART:20251102T060000
END:STANDARD
BEGIN:DAYLIGHT
TZOFFSETFROM:-0500
TZOFFSETTO:-0400
TZNAME:EDT
DTSTART:20260308T070000
END:DAYLIGHT
BEGIN:STANDARD
TZOFFSETFROM:-0400
TZOFFSETTO:-0500
TZNAME:EST
DTSTART:20261101T060000
END:STANDARD
END:VTIMEZONE
BEGIN:VEVENT
DTSTART;TZID=America/Detroit:20251003T080000
DTEND;TZID=America/Detroit:20251005T170000
DTSTAMP:20260421T134911
CREATED:20240513T140922Z
LAST-MODIFIED:20250506T133932Z
UID:20177-1759478400-1759683600@www.indyheads.com
SUMMARY:Mopar Muscle Dragfest
DESCRIPTION:Drag Racing- Car show- Swap Meet- Camping
URL:https://www.indyheads.com/event/mopar-muscle-dragfest/
LOCATION:London Dragway\, 3835 White Oak Road\, London\, KY\, 40741\, United States
END:VEVENT
END:VCALENDAR